Package: Prostar Version: 1.43.0 Command: rm -rf Prostar.buildbin-libdir && mkdir Prostar.buildbin-libdir && /Users/biocbuild/BBS/utils/build-universal.sh Prostar_1.43.0.tar.gz /Library/Frameworks/R.framework/Resources/bin/R Prostar.buildbin-libdir StartedAt: 2025-11-13 23:51:11 -0500 (Thu, 13 Nov 2025) EndedAt: 2025-11-13 23:51:32 -0500 (Thu, 13 Nov 2025) EllapsedTime: 20.4 seconds RetCode: 0 Status: OK PackageFile: Prostar_1.43.0.tgz PackageFileSize: 1.563 MiB