Package: Prostar Version: 1.43.0 Maintainer: Samuel Wieczorek MaintainerEmail: samuel.wieczorek at cea.fr git_url: https://git.bioconductor.org/packages/Prostar git_branch: devel git_last_commit: cfb7b6c git_last_commit_date: 2025-10-29 10:28:08 -0500 (Wed, 29 Oct 2025)