Package: PrInCE Version: 1.27.0 Command: /home/biocbuild/bbs-3.23-bioc/R/bin/R CMD build --keep-empty-dirs --no-resave-data PrInCE StartedAt: 2025-11-13 19:20:25 -0500 (Thu, 13 Nov 2025) EndedAt: 2025-11-13 19:22:57 -0500 (Thu, 13 Nov 2025) EllapsedTime: 152.1 seconds RetCode: 0 Status: OK PackageFile: PrInCE_1.27.0.tar.gz PackageFileSize: 1.861 MiB