Package: PrInCE Version: 1.27.0 Command: /Library/Frameworks/R.framework/Resources/bin/R CMD INSTALL PrInCE StartedAt: 2025-11-12 15:45:58 -0500 (Wed, 12 Nov 2025) EndedAt: 2025-11-12 15:45:59 -0500 (Wed, 12 Nov 2025) EllapsedTime: 1.1 seconds RetCode: 1 Status: ERROR