############################################################################## ############################################################################## ### ### Running command: ### ### /Library/Frameworks/R.framework/Resources/bin/R CMD build --keep-empty-dirs --no-resave-data PrInCE ### ############################################################################## ############################################################################## * checking for file ‘PrInCE/DESCRIPTION’ ... OK * preparing ‘PrInCE’: * checking DESCRIPTION meta-information ... OK * installing the package (it is needed to process help pages) ----------------------------------- ERROR: dependency ‘MSnbase’ is not available for package ‘PrInCE’ Perhaps try a variation of: install.packages('MSnbase') * removing ‘/private/var/folders/r0/l4fjk6cj5xj0j3brt4bplpl40000gt/T/Rtmpaexkdi/Rinst8fc274962ccc/PrInCE’ ----------------------------------- ERROR: package installation failed