Package: PrInCE Version: 1.27.0 Maintainer: Michael Skinnider MaintainerEmail: michael.skinnider at msl.ubc.ca git_url: https://git.bioconductor.org/packages/PrInCE git_branch: devel git_last_commit: bfd792d git_last_commit_date: 2025-10-29 10:50:32 -0500 (Wed, 29 Oct 2025)