Package: Polytect Version: 1.3.0 Command: /home/biocbuild/bbs-3.23-bioc/R/bin/R CMD build --keep-empty-dirs --no-resave-data Polytect StartedAt: 2025-11-14 19:19:00 -0500 (Fri, 14 Nov 2025) EndedAt: 2025-11-14 19:20:21 -0500 (Fri, 14 Nov 2025) EllapsedTime: 81.1 seconds RetCode: 0 Status: OK PackageFile: Polytect_1.3.0.tar.gz PackageFileSize: 2.198 MiB