Package: Polytect Version: 1.3.0 Command: /Library/Frameworks/R.framework/Resources/bin/R CMD INSTALL Polytect StartedAt: 2025-11-14 15:06:31 -0500 (Fri, 14 Nov 2025) EndedAt: 2025-11-14 15:06:38 -0500 (Fri, 14 Nov 2025) EllapsedTime: 7.2 seconds RetCode: 0 Status: OK