Package: Polytect Version: 1.3.0 Command: /Library/Frameworks/R.framework/Resources/bin/R CMD build --keep-empty-dirs --no-resave-data Polytect StartedAt: 2025-11-14 17:18:25 -0500 (Fri, 14 Nov 2025) EndedAt: 2025-11-14 17:18:54 -0500 (Fri, 14 Nov 2025) EllapsedTime: 29.3 seconds RetCode: 0 Status: OK PackageFile: Polytect_1.3.0.tar.gz PackageFileSize: 2.157 MiB