Package: Polytect Version: 1.3.0 Maintainer: Yao Chen MaintainerEmail: emmachentar at live.com git_url: https://git.bioconductor.org/packages/Polytect git_branch: devel git_last_commit: cb9d858 git_last_commit_date: 2025-10-29 11:33:29 -0500 (Wed, 29 Oct 2025)