Package: PolySTest Version: 1.5.0 Command: /home/biocbuild/bbs-3.23-bioc/R/bin/R CMD build --keep-empty-dirs --no-resave-data PolySTest StartedAt: 2025-11-13 19:18:34 -0500 (Thu, 13 Nov 2025) EndedAt: 2025-11-13 19:20:21 -0500 (Thu, 13 Nov 2025) EllapsedTime: 107.1 seconds RetCode: 0 Status: OK PackageFile: PolySTest_1.5.0.tar.gz PackageFileSize: 2.102 MiB