Package: PolySTest Version: 1.5.0 Command: /Library/Frameworks/R.framework/Resources/bin/R CMD INSTALL PolySTest StartedAt: 2025-11-13 15:11:51 -0500 (Thu, 13 Nov 2025) EndedAt: 2025-11-13 15:12:01 -0500 (Thu, 13 Nov 2025) EllapsedTime: 10.8 seconds RetCode: 0 Status: OK