Package: PolySTest Version: 1.5.0 Command: /Library/Frameworks/R.framework/Resources/bin/R CMD build --keep-empty-dirs --no-resave-data PolySTest StartedAt: 2025-11-13 17:21:22 -0500 (Thu, 13 Nov 2025) EndedAt: 2025-11-13 17:22:05 -0500 (Thu, 13 Nov 2025) EllapsedTime: 43.5 seconds RetCode: 0 Status: OK PackageFile: PolySTest_1.5.0.tar.gz PackageFileSize: 2.138 MiB