Package: PolySTest Version: 1.5.0 Maintainer: Veit Schwämmle MaintainerEmail: veits at bmb.sdu.dk git_url: https://git.bioconductor.org/packages/PolySTest git_branch: devel git_last_commit: 98ded58 git_last_commit_date: 2025-10-29 11:31:01 -0500 (Wed, 29 Oct 2025)