Package: Pigengene Version: 1.37.0 Command: /home/biocbuild/bbs-3.23-bioc/R/bin/R CMD INSTALL Pigengene StartedAt: 2025-11-13 15:48:21 -0500 (Thu, 13 Nov 2025) EndedAt: 2025-11-13 15:48:49 -0500 (Thu, 13 Nov 2025) EllapsedTime: 28.0 seconds RetCode: 0 Status: OK