Package: Pigengene Version: 1.37.0 Command: /home/biocbuild/bbs-3.23-bioc/R/bin/R CMD build --keep-empty-dirs --no-resave-data Pigengene StartedAt: 2025-11-13 19:16:21 -0500 (Thu, 13 Nov 2025) EndedAt: 2025-11-13 19:19:21 -0500 (Thu, 13 Nov 2025) EllapsedTime: 180.2 seconds RetCode: 0 Status: OK PackageFile: Pigengene_1.37.0.tar.gz PackageFileSize: 2.697 MiB