Package: Pigengene Version: 1.37.0 Command: /Library/Frameworks/R.framework/Resources/bin/R CMD INSTALL Pigengene StartedAt: 2025-11-13 15:28:08 -0500 (Thu, 13 Nov 2025) EndedAt: 2025-11-13 15:28:20 -0500 (Thu, 13 Nov 2025) EllapsedTime: 11.8 seconds RetCode: 0 Status: OK