Package: Pigengene Version: 1.37.0 Command: /Library/Frameworks/R.framework/Resources/bin/R CMD build --keep-empty-dirs --no-resave-data Pigengene StartedAt: 2025-11-13 17:20:14 -0500 (Thu, 13 Nov 2025) EndedAt: 2025-11-13 17:21:22 -0500 (Thu, 13 Nov 2025) EllapsedTime: 67.8 seconds RetCode: 0 Status: OK PackageFile: Pigengene_1.37.0.tar.gz PackageFileSize: 2.697 MiB