Package: Pigengene Version: 1.37.0 Maintainer: Habil Zare MaintainerEmail: zare at u.washington.edu git_url: https://git.bioconductor.org/packages/Pigengene git_branch: devel git_last_commit: b4e2edc git_last_commit_date: 2025-10-29 10:32:29 -0500 (Wed, 29 Oct 2025)