Package: PhyloProfile Version: 2.3.2 Command: /Library/Frameworks/R.framework/Resources/bin/R CMD INSTALL PhyloProfile StartedAt: 2025-11-19 15:09:43 -0500 (Wed, 19 Nov 2025) EndedAt: 2025-11-19 15:09:52 -0500 (Wed, 19 Nov 2025) EllapsedTime: 8.8 seconds RetCode: 0 Status: OK