Package: PhyloProfile Version: 2.3.2 Command: /Library/Frameworks/R.framework/Resources/bin/R CMD build --keep-empty-dirs --no-resave-data PhyloProfile StartedAt: 2025-11-19 17:17:55 -0500 (Wed, 19 Nov 2025) EndedAt: 2025-11-19 17:18:11 -0500 (Wed, 19 Nov 2025) EllapsedTime: 16.2 seconds RetCode: 0 Status: OK PackageFile: PhyloProfile_2.3.2.tar.gz PackageFileSize: 1.431 MiB