Package: PhyloProfile Version: 2.3.2 Command: rm -rf PhyloProfile.buildbin-libdir && mkdir PhyloProfile.buildbin-libdir && /Users/biocbuild/BBS/utils/build-universal.sh PhyloProfile_2.3.2.tar.gz /Library/Frameworks/R.framework/Resources/bin/R PhyloProfile.buildbin-libdir StartedAt: 2025-11-19 23:46:38 -0500 (Wed, 19 Nov 2025) EndedAt: 2025-11-19 23:46:50 -0500 (Wed, 19 Nov 2025) EllapsedTime: 12.3 seconds RetCode: 0 Status: OK PackageFile: PhyloProfile_2.3.2.tgz PackageFileSize: 1.521 MiB