Package: PhosR Version: 1.21.0 Command: /Library/Frameworks/R.framework/Resources/bin/R CMD INSTALL PhosR StartedAt: 2025-11-13 15:12:29 -0500 (Thu, 13 Nov 2025) EndedAt: 2025-11-13 15:12:40 -0500 (Thu, 13 Nov 2025) EllapsedTime: 11.9 seconds RetCode: 0 Status: OK