Package: PhosR Version: 1.21.0 Command: /Library/Frameworks/R.framework/Resources/bin/R CMD build --keep-empty-dirs --no-resave-data PhosR StartedAt: 2025-11-13 17:20:03 -0500 (Thu, 13 Nov 2025) EndedAt: 2025-11-13 17:21:14 -0500 (Thu, 13 Nov 2025) EllapsedTime: 70.8 seconds RetCode: 0 Status: OK PackageFile: PhosR_1.21.0.tar.gz PackageFileSize: 7.962 MiB