Package: PhosR Version: 1.21.0 Command: rm -rf PhosR.buildbin-libdir && mkdir PhosR.buildbin-libdir && /Users/biocbuild/BBS/utils/build-universal.sh PhosR_1.21.0.tar.gz /Library/Frameworks/R.framework/Resources/bin/R PhosR.buildbin-libdir StartedAt: 2025-11-13 23:50:19 -0500 (Thu, 13 Nov 2025) EndedAt: 2025-11-13 23:50:34 -0500 (Thu, 13 Nov 2025) EllapsedTime: 15.4 seconds RetCode: 0 Status: OK PackageFile: PhosR_1.21.0.tgz PackageFileSize: 6.013 MiB