Package: PharmacoGx Version: 3.15.0 Command: /home/biocbuild/bbs-3.23-bioc/R/bin/R CMD INSTALL PharmacoGx StartedAt: 2025-11-14 15:24:57 -0500 (Fri, 14 Nov 2025) EndedAt: 2025-11-14 15:25:41 -0500 (Fri, 14 Nov 2025) EllapsedTime: 43.1 seconds RetCode: 0 Status: OK