Package: PharmacoGx Version: 3.15.0 Command: /Library/Frameworks/R.framework/Resources/bin/R CMD INSTALL PharmacoGx StartedAt: 2025-11-13 15:15:08 -0500 (Thu, 13 Nov 2025) EndedAt: 2025-11-13 15:15:25 -0500 (Thu, 13 Nov 2025) EllapsedTime: 16.9 seconds RetCode: 0 Status: OK