Package: PharmacoGx Version: 3.15.0 Command: /Library/Frameworks/R.framework/Resources/bin/R CMD build --keep-empty-dirs --no-resave-data PharmacoGx StartedAt: 2025-11-13 17:19:28 -0500 (Thu, 13 Nov 2025) EndedAt: 2025-11-13 17:20:03 -0500 (Thu, 13 Nov 2025) EllapsedTime: 34.4 seconds RetCode: 0 Status: OK PackageFile: PharmacoGx_3.15.0.tar.gz PackageFileSize: 4.468 MiB