Package: PharmacoGx Version: 3.15.0 Command: rm -rf PharmacoGx.buildbin-libdir && mkdir PharmacoGx.buildbin-libdir && /Users/biocbuild/BBS/utils/build-universal.sh PharmacoGx_3.15.0.tar.gz /Library/Frameworks/R.framework/Resources/bin/R PharmacoGx.buildbin-libdir StartedAt: 2025-11-13 23:50:14 -0500 (Thu, 13 Nov 2025) EndedAt: 2025-11-13 23:50:36 -0500 (Thu, 13 Nov 2025) EllapsedTime: 21.6 seconds RetCode: 0 Status: OK PackageFile: PharmacoGx_3.15.0.tgz PackageFileSize: 3.93 MiB