Package: PhIPData Version: 1.19.0 Command: /home/biocbuild/bbs-3.23-bioc/R/bin/R CMD INSTALL PhIPData StartedAt: 2025-11-13 15:51:09 -0500 (Thu, 13 Nov 2025) EndedAt: 2025-11-13 15:51:36 -0500 (Thu, 13 Nov 2025) EllapsedTime: 27.4 seconds RetCode: 0 Status: OK