Package: PhIPData Version: 1.19.0 Command: /home/biocbuild/bbs-3.23-bioc/R/bin/R CMD build --keep-empty-dirs --no-resave-data PhIPData StartedAt: 2025-11-11 19:20:51 -0500 (Tue, 11 Nov 2025) EndedAt: 2025-11-11 19:21:32 -0500 (Tue, 11 Nov 2025) EllapsedTime: 41.0 seconds RetCode: 0 Status: OK PackageFile: PhIPData_1.19.0.tar.gz PackageFileSize: 820.8 KiB