Package: PhIPData Version: 1.19.0 Command: /Library/Frameworks/R.framework/Resources/bin/R CMD INSTALL PhIPData StartedAt: 2025-11-12 15:43:12 -0500 (Wed, 12 Nov 2025) EndedAt: 2025-11-12 15:43:14 -0500 (Wed, 12 Nov 2025) EllapsedTime: 1.1 seconds RetCode: 1 Status: ERROR