Package: PhIPData Version: 1.19.0 Command: /Library/Frameworks/R.framework/Resources/bin/R CMD build --keep-empty-dirs --no-resave-data PhIPData StartedAt: 2025-11-14 17:17:01 -0500 (Fri, 14 Nov 2025) EndedAt: 2025-11-14 17:17:19 -0500 (Fri, 14 Nov 2025) EllapsedTime: 18.2 seconds RetCode: 0 Status: OK PackageFile: PhIPData_1.19.0.tar.gz PackageFileSize: 820.9 KiB