Package: PhIPData Version: 1.19.0 Maintainer: Athena Chen MaintainerEmail: achen70 at jhu.edu git_url: https://git.bioconductor.org/packages/PhIPData git_branch: devel git_last_commit: 82391da git_last_commit_date: 2025-10-29 11:06:46 -0500 (Wed, 29 Oct 2025)