Package: PepsNMR Version: 1.29.0 Command: /Library/Frameworks/R.framework/Resources/bin/R CMD INSTALL PepsNMR StartedAt: 2025-11-25 15:06:23 -0500 (Tue, 25 Nov 2025) EndedAt: 2025-11-25 15:06:30 -0500 (Tue, 25 Nov 2025) EllapsedTime: 6.9 seconds RetCode: 0 Status: OK