Package: PepsNMR Version: 1.29.0 Command: /Library/Frameworks/R.framework/Resources/bin/R CMD build --keep-empty-dirs --no-resave-data PepsNMR StartedAt: 2025-11-25 17:16:12 -0500 (Tue, 25 Nov 2025) EndedAt: 2025-11-25 17:17:36 -0500 (Tue, 25 Nov 2025) EllapsedTime: 84.0 seconds RetCode: 0 Status: OK PackageFile: PepsNMR_1.29.0.tar.gz PackageFileSize: 1.271 MiB