Package: PepSetTest Version: 1.5.0 Command: /Library/Frameworks/R.framework/Resources/bin/R CMD INSTALL PepSetTest StartedAt: 2025-11-14 15:16:11 -0500 (Fri, 14 Nov 2025) EndedAt: 2025-11-14 15:16:12 -0500 (Fri, 14 Nov 2025) EllapsedTime: 1.2 seconds RetCode: 0 Status: OK