Package: PepSetTest Version: 1.5.0 Command: /Library/Frameworks/R.framework/Resources/bin/R CMD build --keep-empty-dirs --no-resave-data PepSetTest StartedAt: 2025-11-13 17:19:12 -0500 (Thu, 13 Nov 2025) EndedAt: 2025-11-13 17:19:21 -0500 (Thu, 13 Nov 2025) EllapsedTime: 9.1 seconds RetCode: 0 Status: OK PackageFile: PepSetTest_1.5.0.tar.gz PackageFileSize: 248.5 KiB