Package: PepSetTest Version: 1.5.0 Command: rm -rf PepSetTest.buildbin-libdir && mkdir PepSetTest.buildbin-libdir && /Users/biocbuild/BBS/utils/build-universal.sh PepSetTest_1.5.0.tar.gz /Library/Frameworks/R.framework/Resources/bin/R PepSetTest.buildbin-libdir StartedAt: 2025-11-13 23:50:07 -0500 (Thu, 13 Nov 2025) EndedAt: 2025-11-13 23:50:09 -0500 (Thu, 13 Nov 2025) EllapsedTime: 2.0 seconds RetCode: 0 Status: OK PackageFile: PepSetTest_1.5.0.tgz PackageFileSize: 305.4 KiB