Package: PepSetTest Version: 1.5.0 Maintainer: Junmin Wang MaintainerEmail: jmwang.bio at gmail.com git_url: https://git.bioconductor.org/packages/PepSetTest git_branch: devel git_last_commit: f2ac665 git_last_commit_date: 2025-10-29 11:30:58 -0500 (Wed, 29 Oct 2025)