Package: PathoStat Version: 1.37.0 Command: /home/biocbuild/bbs-3.23-bioc/R/bin/R CMD INSTALL PathoStat StartedAt: 2025-11-13 15:21:47 -0500 (Thu, 13 Nov 2025) EndedAt: 2025-11-13 15:22:22 -0500 (Thu, 13 Nov 2025) EllapsedTime: 35.6 seconds RetCode: 0 Status: OK