Package: PathoStat Version: 1.37.0 Command: /home/biocbuild/bbs-3.23-bioc/R/bin/R CMD build --keep-empty-dirs --no-resave-data PathoStat StartedAt: 2025-11-13 19:11:48 -0500 (Thu, 13 Nov 2025) EndedAt: 2025-11-13 19:12:27 -0500 (Thu, 13 Nov 2025) EllapsedTime: 39.0 seconds RetCode: 0 Status: OK PackageFile: PathoStat_1.37.0.tar.gz PackageFileSize: 947.9 KiB