############################################################################## ############################################################################## ### ### Running command: ### ### /Library/Frameworks/R.framework/Resources/bin/R CMD build --keep-empty-dirs --no-resave-data PathoStat ### ############################################################################## ############################################################################## * checking for file ‘PathoStat/DESCRIPTION’ ... OK * preparing ‘PathoStat’: * checking DESCRIPTION meta-information ... OK * installing the package (it is needed to build vignettes) ----------------------------------- ERROR: dependencies ‘phyloseq’, ‘edgeR’ are not available for package ‘PathoStat’ Perhaps try a variation of: install.packages(c('phyloseq', 'edgeR')) * removing ‘/private/var/folders/r0/l4fjk6cj5xj0j3brt4bplpl40000gt/T/Rtmp1ropwg/Rinst2533642d0e4e/PathoStat’ ----------------------------------- ERROR: package installation failed