Package: PathoStat Version: 1.37.0 Maintainer: Solaiappan Manimaran MaintainerEmail: manimaran_1975 at hotmail.com git_url: https://git.bioconductor.org/packages/PathoStat git_branch: devel git_last_commit: b2188f7 git_last_commit_date: 2025-10-29 10:34:57 -0500 (Wed, 29 Oct 2025)