Package: PathNet Version: 1.51.0 Command: /home/biocbuild/bbs-3.23-bioc/R/bin/R CMD INSTALL PathNet StartedAt: 2025-11-13 15:02:02 -0500 (Thu, 13 Nov 2025) EndedAt: 2025-11-13 15:02:07 -0500 (Thu, 13 Nov 2025) EllapsedTime: 5.5 seconds RetCode: 0 Status: OK