Package: PathNet Version: 1.51.0 Command: /Library/Frameworks/R.framework/Resources/bin/R CMD INSTALL PathNet StartedAt: 2025-11-12 15:15:56 -0500 (Wed, 12 Nov 2025) EndedAt: 2025-11-12 15:15:58 -0500 (Wed, 12 Nov 2025) EllapsedTime: 1.5 seconds RetCode: 0 Status: OK