Package: PathNet Version: 1.51.0 Command: /Library/Frameworks/R.framework/Resources/bin/R CMD build --keep-empty-dirs --no-resave-data PathNet StartedAt: 2025-11-13 17:17:57 -0500 (Thu, 13 Nov 2025) EndedAt: 2025-11-13 17:18:21 -0500 (Thu, 13 Nov 2025) EllapsedTime: 23.2 seconds RetCode: 0 Status: OK PackageFile: PathNet_1.51.0.tar.gz PackageFileSize: 823.9 KiB