Package: PathNet Version: 1.51.0 Command: rm -rf PathNet.buildbin-libdir && mkdir PathNet.buildbin-libdir && /Users/biocbuild/BBS/utils/build-universal.sh PathNet_1.51.0.tar.gz /Library/Frameworks/R.framework/Resources/bin/R PathNet.buildbin-libdir StartedAt: 2025-11-12 21:05:54 -0500 (Wed, 12 Nov 2025) EndedAt: 2025-11-12 21:05:56 -0500 (Wed, 12 Nov 2025) EllapsedTime: 2.0 seconds RetCode: 0 Status: OK PackageFile: PathNet_1.51.0.tgz PackageFileSize: 329.4 KiB