Package: Path2PPI Version: 1.41.0 Command: /home/biocbuild/bbs-3.23-bioc/R/bin/R CMD INSTALL Path2PPI StartedAt: 2025-11-13 15:06:38 -0500 (Thu, 13 Nov 2025) EndedAt: 2025-11-13 15:07:08 -0500 (Thu, 13 Nov 2025) EllapsedTime: 29.7 seconds RetCode: 0 Status: OK