Package: Path2PPI Version: 1.41.0 Command: /Library/Frameworks/R.framework/Resources/bin/R CMD INSTALL Path2PPI StartedAt: 2025-11-13 15:03:55 -0500 (Thu, 13 Nov 2025) EndedAt: 2025-11-13 15:04:09 -0500 (Thu, 13 Nov 2025) EllapsedTime: 14.5 seconds RetCode: 0 Status: OK